BEGIN:VCALENDAR
VERSION:2.0
PRODID:-//Bücherei Prien - ECPv6.15.18//NONSGML v1.0//EN
CALSCALE:GREGORIAN
METHOD:PUBLISH
X-ORIGINAL-URL:https://www.buecherei.prien.de
X-WR-CALDESC:Veranstaltungen für Bücherei Prien
REFRESH-INTERVAL;VALUE=DURATION:PT1H
X-Robots-Tag:noindex
X-PUBLISHED-TTL:PT1H
BEGIN:VTIMEZONE
TZID:Europe/Berlin
BEGIN:DAYLIGHT
TZOFFSETFROM:+0100
TZOFFSETTO:+0200
TZNAME:CEST
DTSTART:20250330T010000
END:DAYLIGHT
BEGIN:STANDARD
TZOFFSETFROM:+0200
TZOFFSETTO:+0100
TZNAME:CET
DTSTART:20251026T010000
END:STANDARD
BEGIN:DAYLIGHT
TZOFFSETFROM:+0100
TZOFFSETTO:+0200
TZNAME:CEST
DTSTART:20260329T010000
END:DAYLIGHT
BEGIN:STANDARD
TZOFFSETFROM:+0200
TZOFFSETTO:+0100
TZNAME:CET
DTSTART:20261025T010000
END:STANDARD
BEGIN:DAYLIGHT
TZOFFSETFROM:+0100
TZOFFSETTO:+0200
TZNAME:CEST
DTSTART:20270328T010000
END:DAYLIGHT
BEGIN:STANDARD
TZOFFSETFROM:+0200
TZOFFSETTO:+0100
TZNAME:CET
DTSTART:20271031T010000
END:STANDARD
BEGIN:DAYLIGHT
TZOFFSETFROM:+0100
TZOFFSETTO:+0200
TZNAME:CEST
DTSTART:20280326T010000
END:DAYLIGHT
BEGIN:STANDARD
TZOFFSETFROM:+0200
TZOFFSETTO:+0100
TZNAME:CET
DTSTART:20281029T010000
END:STANDARD
END:VTIMEZONE
BEGIN:VEVENT
DTSTART;TZID=Europe/Berlin:20260428T150000
DTEND;TZID=Europe/Berlin:20260428T163000
DTSTAMP:20260423T132108
CREATED:20251118T210039Z
LAST-MODIFIED:20260119T082120Z
UID:9236-1777388400-1777393800@www.buecherei.prien.de
SUMMARY:Der Tag\, an dem Max dreimal ins Auto gekotzt hat
DESCRIPTION:Beim Bilderbuchkino wird den Kindern ein Bilderbuch vorgelesen und gleichzeitig können sie die Bilder an der großen Leinwand ansehen. Es folgt eine kleine Bastelstunde passend zum Thema und jedes Kind darf etwas Selbstgebasteltes mit nach Hause nehmen. \nBitte geben Sie Ihrem Kind für die Veranstaltung ein Getränk mit! \nJedes Kind kann nur bei einer Veranstaltung pro Monat dabei sein! \nKann Ihr Kind doch nicht teilnehmen\, bitten wir Sie\, den Stornierungs-Link in der Bestätigungs-E-Mail anzuklicken\, damit ein anderes Kind nachrücken kann. \nZur Anmeldung / Warteliste
URL:https://www.buecherei.prien.de/veranstaltung/der-tag-an-dem-max-dreimal-ins-auto-gekotzt-hat/
LOCATION:Bücherei Prien\, Alte Rathausstraße 11\, Prien am Chiemsee\, 83209
CATEGORIES:7–10 Jahre
ATTACH;FMTTYPE=image/jpeg:https://www.buecherei.prien.de/wp-content/uploads/2025/11/Der-Tag-an-dem-Max-dreimal-ins-Auto-gekotzt-hat-scaled.jpg
END:VEVENT
BEGIN:VEVENT
DTSTART;TZID=Europe/Berlin:20260505T150000
DTEND;TZID=Europe/Berlin:20260505T163000
DTSTAMP:20260423T132108
CREATED:20260407T200031Z
LAST-MODIFIED:20260408T090800Z
UID:9434-1777993200-1777998600@www.buecherei.prien.de
SUMMARY:Dr. Brumm steckt fest
DESCRIPTION:Beim Bilderbuchkino wird den Kindern ein Bilderbuch vorgelesen und gleichzeitig können sie die Bilder an der großen Leinwand ansehen. Es folgt eine kleine Bastelstunde passend zum Thema und jedes Kind darf etwas Selbstgebasteltes mit nach Hause nehmen. \nBitte geben Sie Ihrem Kind für die Veranstaltung ein Getränk mit! \nJedes Kind kann nur bei einer Veranstaltung pro Monat dabei sein! \nKann Ihr Kind doch nicht teilnehmen\, bitten wir Sie\, den Stornierungs-Link in der Bestätigungs-E-Mail anzuklicken\, damit ein anderes Kind nachrücken kann. \nZur Anmeldung / Warteliste
URL:https://www.buecherei.prien.de/veranstaltung/dr-brumm-steckt-fest/
LOCATION:Bücherei Prien\, Alte Rathausstraße 11\, Prien am Chiemsee\, 83209
CATEGORIES:4–6 Jahre
ATTACH;FMTTYPE=image/png:https://www.buecherei.prien.de/wp-content/uploads/2026/03/Dr.-Brumm-scaled.png
END:VEVENT
BEGIN:VEVENT
DTSTART;TZID=Europe/Berlin:20260507T190000
DTEND;TZID=Europe/Berlin:20260507T203000
DTSTAMP:20260423T132108
CREATED:20260306T100839Z
LAST-MODIFIED:20260311T112004Z
UID:9319-1778180400-1778185800@www.buecherei.prien.de
SUMMARY:Das Chaos umarmen
DESCRIPTION:Am Donnerstag\, 7. Mai 2026\, lädt die Bücherei Prien um 19 Uhr zu einer besonderen Lesung ein: Dr. Sabrina Wilkenshof stellt ihr aktuelles Buch „Das Chaos umarmen – Wie wir leben können\, ohne alles im Griff zu haben“ vor. \nDr. Sabrina Wilkenshof\, Jahrgang 1985\, hat evangelische Theologie studiert und darin promoviert. Sie arbeitet als Pfarrerin und ist außerdem als Autorin sowie als Sprecherin religiöser Formate im Bayerischen Rundfunk und beim Kirchentag tätig. Sie ist verheiratet\, Mutter von drei Kindern und lebt mit ihrer Familie in Bernau am Chiemsee. In ihrem Buch widmet sich Wilkenshof den vielen kleinen und großen Unordnungen des Lebens – auf dem Esstisch ebenso wie in unseren Gedanken: große Träume zwischen Wäschebergen\, leise Zweifel hinter der Kaffeetasse. Doch nicht immer lässt sich das Leben „in Ordnung bringen“\, auch wenn wir das oft versuchen. In ihrem ehrlichen und lebensnahen Buch zeigt die Autorin\, wie es gelingen kann\, das Leben anzunehmen\, wie es kommt\, und sich trotzdem im eigenen Alltag getragen zu fühlen. Es geht um Festhalten und Loslassen und um die vielen Dinge dazwischen.\nDie Lesung richtet sich an alle\, die ihr Leben nicht länger in To-Do-Listen und Wochenpläne zwängen möchten\, sondern ihre Kraft lieber in Begegnungen\, Umarmungen und einen liebevollen Blick auf das eigene Leben investieren wollen. \nEintrittskarten sind zum Preis von 6€ in der Bücherei Prien zu erwerben! \nEinlass bei der Veranstaltung ist ab 18.30 Uhr\, Beginn um 19 Uhr
URL:https://www.buecherei.prien.de/veranstaltung/das-chaos-umarmen/
LOCATION:Bücherei Prien\, Alte Rathausstraße 11\, Prien am Chiemsee\, 83209
CATEGORIES:Erwachsene
ATTACH;FMTTYPE=image/jpeg:https://www.buecherei.prien.de/wp-content/uploads/2026/03/Sabrina-Wilkenshof_Copyright-Benjamin-MuellerVier-Tuerme-Verlag-scaled.jpg
END:VEVENT
BEGIN:VEVENT
DTSTART;TZID=Europe/Berlin:20260512T150000
DTEND;TZID=Europe/Berlin:20260512T163000
DTSTAMP:20260423T132108
CREATED:20260407T200048Z
LAST-MODIFIED:20260408T090810Z
UID:9437-1778598000-1778603400@www.buecherei.prien.de
SUMMARY:Ronny das Pony und Gerd das Pferd und Bente die Ente
DESCRIPTION:Beim Bilderbuchkino wird den Kindern ein Bilderbuch vorgelesen und gleichzeitig können sie die Bilder an der großen Leinwand ansehen. Es folgt eine kleine Bastelstunde passend zum Thema und jedes Kind darf etwas Selbstgebasteltes mit nach Hause nehmen. \nBitte geben Sie Ihrem Kind für die Veranstaltung ein Getränk mit! \nJedes Kind kann nur bei einer Veranstaltung pro Monat dabei sein! \nKann Ihr Kind doch nicht teilnehmen\, bitten wir Sie\, den Stornierungs-Link in der Bestätigungs-E-Mail anzuklicken\, damit ein anderes Kind nachrücken kann. \nZur Anmeldung / Warteliste
URL:https://www.buecherei.prien.de/veranstaltung/ronny-das-pony-und-gerd-das-pferd-und-bente-die-ente/
LOCATION:Bücherei Prien\, Alte Rathausstraße 11\, Prien am Chiemsee\, 83209
CATEGORIES:4–6 Jahre
ATTACH;FMTTYPE=image/png:https://www.buecherei.prien.de/wp-content/uploads/2026/03/Ronny-das-Pony-scaled.png
END:VEVENT
BEGIN:VEVENT
DTSTART;TZID=Europe/Berlin:20260519T150000
DTEND;TZID=Europe/Berlin:20260519T163000
DTSTAMP:20260423T132108
CREATED:20260407T200014Z
LAST-MODIFIED:20260413T135656Z
UID:9440-1779202800-1779208200@www.buecherei.prien.de
SUMMARY:Artur - Ein Pinguin hat einen Plan
DESCRIPTION:Beim Bilderbuchkino wird den Kindern ein Bilderbuch vorgelesen und gleichzeitig können sie die Bilder an der großen Leinwand ansehen. Es folgt eine kleine Bastelstunde passend zum Thema und jedes Kind darf etwas Selbstgebasteltes mit nach Hause nehmen. \nBitte geben Sie Ihrem Kind für die Veranstaltung ein Getränk mit! \nJedes Kind kann nur bei einer Veranstaltung pro Monat dabei sein! \nKann Ihr Kind doch nicht teilnehmen\, bitten wir Sie\, den Stornierungs-Link in der Bestätigungs-E-Mail anzuklicken\, damit ein anderes Kind nachrücken kann. \nZur Anmeldung / Warteliste
URL:https://www.buecherei.prien.de/veranstaltung/artur-ein-pinguin-hat-einen-plan/
LOCATION:Bücherei Prien\, Alte Rathausstraße 11\, Prien am Chiemsee\, 83209
CATEGORIES:7–10 Jahre
ATTACH;FMTTYPE=image/png:https://www.buecherei.prien.de/wp-content/uploads/2026/03/Artur-scaled.png
END:VEVENT
BEGIN:VEVENT
DTSTART;TZID=Europe/Berlin:20260609T150000
DTEND;TZID=Europe/Berlin:20260609T163000
DTSTAMP:20260423T132108
CREATED:20260407T200052Z
LAST-MODIFIED:20260408T090819Z
UID:9442-1781017200-1781022600@www.buecherei.prien.de
SUMMARY:Geh deinen Weg\, Schildkröte
DESCRIPTION:Beim Bilderbuchkino wird den Kindern ein Bilderbuch vorgelesen und gleichzeitig können sie die Bilder an der großen Leinwand ansehen. Es folgt eine kleine Bastelstunde passend zum Thema und jedes Kind darf etwas Selbstgebasteltes mit nach Hause nehmen. \nBitte geben Sie Ihrem Kind für die Veranstaltung ein Getränk mit! \nJedes Kind kann nur bei einer Veranstaltung pro Monat dabei sein! \nKann Ihr Kind doch nicht teilnehmen\, bitten wir Sie\, den Stornierungs-Link in der Bestätigungs-E-Mail anzuklicken\, damit ein anderes Kind nachrücken kann. \nZur Anmeldung / Warteliste
URL:https://www.buecherei.prien.de/veranstaltung/geh-deinen-weg-schildkroete/
LOCATION:Bücherei Prien\, Alte Rathausstraße 11\, Prien am Chiemsee\, 83209
CATEGORIES:4–6 Jahre
ATTACH;FMTTYPE=image/png:https://www.buecherei.prien.de/wp-content/uploads/2026/03/Schildkroete-scaled.png
END:VEVENT
BEGIN:VEVENT
DTSTART;TZID=Europe/Berlin:20260611T150000
DTEND;TZID=Europe/Berlin:20260611T170000
DTSTAMP:20260423T132108
CREATED:20260410T220044Z
LAST-MODIFIED:20260422T060421Z
UID:9272-1781190000-1781197200@www.buecherei.prien.de
SUMMARY:Sammelbilder-Tauschbörse mit Stadion-Rallye
DESCRIPTION:Für alle\, die das Tauschfieber gepackt hat\, findet in der Bücherei Prien von 15 bis 17 Uhr eine Sammelbilder Tauschbörse zur Fußball-WM 2026. Hier können eventuell fehlende Bilder gefunden\, überzählige verschenkt oder getauscht werden. \nAls besonderes Highlight wartet am 11. Juni 2026 zwischen 15 und 17 Uhr auf alle Fußballfans und Rätselfreunde eine Stadion-Rallye\, bei dem man sein Wissen über die Fußballstadien dieser Welt unter Beweis stellen kann. Alle erfolgreichen Teilnehmerinnen und Teilnehmer werden anschließend mit einer Urkunde belohnt. \nDer Eintritt ist frei\, eine Anmeldung ist nicht erforderlich.
URL:https://www.buecherei.prien.de/veranstaltung/sammelbilder-tauschboerse/
LOCATION:Bücherei Prien\, Alte Rathausstraße 11\, Prien am Chiemsee\, 83209
CATEGORIES:4–6 Jahre,7–10 Jahre,Erwachsene
ATTACH;FMTTYPE=image/png:https://www.buecherei.prien.de/wp-content/uploads/2024/04/Tauschboerse.png
END:VEVENT
BEGIN:VEVENT
DTSTART;TZID=Europe/Berlin:20260616T150000
DTEND;TZID=Europe/Berlin:20260616T163000
DTSTAMP:20260423T132108
CREATED:20260407T200011Z
LAST-MODIFIED:20260408T172606Z
UID:9445-1781622000-1781627400@www.buecherei.prien.de
SUMMARY:Der Kopfübär
DESCRIPTION:Beim Bilderbuchkino wird den Kindern ein Bilderbuch vorgelesen und gleichzeitig können sie die Bilder an der großen Leinwand ansehen. Es folgt eine kleine Bastelstunde passend zum Thema und jedes Kind darf etwas Selbstgebasteltes mit nach Hause nehmen. \nBitte geben Sie Ihrem Kind für die Veranstaltung ein Getränk mit! \nJedes Kind kann nur bei einer Veranstaltung pro Monat dabei sein! \nKann Ihr Kind doch nicht teilnehmen\, bitten wir Sie\, den Stornierungs-Link in der Bestätigungs-E-Mail anzuklicken\, damit ein anderes Kind nachrücken kann. \nZur Anmeldung / Warteliste
URL:https://www.buecherei.prien.de/veranstaltung/der-kopfuebaer/
LOCATION:Bücherei Prien\, Alte Rathausstraße 11\, Prien am Chiemsee\, 83209
CATEGORIES:4–6 Jahre
ATTACH;FMTTYPE=image/png:https://www.buecherei.prien.de/wp-content/uploads/2026/03/Kopfuebaer-scaled.png
END:VEVENT
BEGIN:VEVENT
DTSTART;TZID=Europe/Berlin:20260618T150000
DTEND;TZID=Europe/Berlin:20260618T170000
DTSTAMP:20260423T132108
CREATED:20260403T220051Z
LAST-MODIFIED:20260422T060432Z
UID:9478-1781794800-1781802000@www.buecherei.prien.de
SUMMARY:Sammelbilder-Tauschbörse
DESCRIPTION:Für alle\, die das Tauschfieber gepackt hat\, findet in der Bücherei Prien von 15 bis 17 Uhr eine Sammelbilder Tauschbörse zur Fußball-WM 2026. Hier können eventuell fehlende Bilder gefunden\, überzählige verschenkt oder getauscht werden. \nDer Eintritt ist frei\, eine Anmeldung ist nicht erforderlich.
URL:https://www.buecherei.prien.de/veranstaltung/sammelbilder-tauschboerse-2/
LOCATION:Bücherei Prien\, Alte Rathausstraße 11\, Prien am Chiemsee\, 83209
CATEGORIES:4–6 Jahre,7–10 Jahre,Erwachsene
ATTACH;FMTTYPE=image/png:https://www.buecherei.prien.de/wp-content/uploads/2024/04/Tauschboerse.png
END:VEVENT
BEGIN:VEVENT
DTSTART;TZID=Europe/Berlin:20260623T150000
DTEND;TZID=Europe/Berlin:20260623T163000
DTSTAMP:20260423T132108
CREATED:20260407T200053Z
LAST-MODIFIED:20260413T135644Z
UID:9448-1782226800-1782232200@www.buecherei.prien.de
SUMMARY:Egal sagt Aal
DESCRIPTION:Beim Bilderbuchkino wird den Kindern ein Bilderbuch vorgelesen und gleichzeitig können sie die Bilder an der großen Leinwand ansehen. Es folgt eine kleine Bastelstunde passend zum Thema und jedes Kind darf etwas Selbstgebasteltes mit nach Hause nehmen. \nBitte geben Sie Ihrem Kind für die Veranstaltung ein Getränk mit! \nJedes Kind kann nur bei einer Veranstaltung pro Monat dabei sein! \nKann Ihr Kind doch nicht teilnehmen\, bitten wir Sie\, den Stornierungs-Link in der Bestätigungs-E-Mail anzuklicken\, damit ein anderes Kind nachrücken kann. \nZur Anmeldung / Warteliste
URL:https://www.buecherei.prien.de/veranstaltung/egal-sagt-aal/
LOCATION:Bücherei Prien\, Alte Rathausstraße 11\, Prien am Chiemsee\, 83209
CATEGORIES:7–10 Jahre
ATTACH;FMTTYPE=image/png:https://www.buecherei.prien.de/wp-content/uploads/2026/03/Egal-sagt-Aal-scaled.png
END:VEVENT
BEGIN:VEVENT
DTSTART;TZID=Europe/Berlin:20260625T150000
DTEND;TZID=Europe/Berlin:20260625T170000
DTSTAMP:20260423T132108
CREATED:20260403T220028Z
LAST-MODIFIED:20260422T060446Z
UID:9480-1782399600-1782406800@www.buecherei.prien.de
SUMMARY:Sammelbilder-Tauschbörse
DESCRIPTION:Für alle\, die das Tauschfieber gepackt hat\, findet in der Bücherei Prien von 15 bis 17 Uhr eine Sammelbilder Tauschbörse zur Fußball-WM 2026. Hier können eventuell fehlende Bilder gefunden\, überzählige verschenkt oder getauscht werden. \nDer Eintritt ist frei\, eine Anmeldung ist nicht erforderlich.
URL:https://www.buecherei.prien.de/veranstaltung/sammelbilder-tauschboerse-3/
LOCATION:Bücherei Prien\, Alte Rathausstraße 11\, Prien am Chiemsee\, 83209
CATEGORIES:4–6 Jahre,7–10 Jahre,Erwachsene
ATTACH;FMTTYPE=image/png:https://www.buecherei.prien.de/wp-content/uploads/2024/04/Tauschboerse.png
END:VEVENT
BEGIN:VEVENT
DTSTART;TZID=Europe/Berlin:20260702T150000
DTEND;TZID=Europe/Berlin:20260702T170000
DTSTAMP:20260423T132108
CREATED:20260404T220014Z
LAST-MODIFIED:20260422T060452Z
UID:9482-1783004400-1783011600@www.buecherei.prien.de
SUMMARY:Sammelbilder-Tauschbörse
DESCRIPTION:Für alle\, die das Tauschfieber gepackt hat\, findet in der Bücherei Prien von 15 bis 17 Uhr eine Sammelbilder Tauschbörse zur Fußball-WM 2026. Hier können eventuell fehlende Bilder gefunden\, überzählige verschenkt oder getauscht werden. \nDer Eintritt ist frei\, eine Anmeldung ist nicht erforderlich.
URL:https://www.buecherei.prien.de/veranstaltung/sammelbilder-tauschboerse-4/
LOCATION:Bücherei Prien\, Alte Rathausstraße 11\, Prien am Chiemsee\, 83209
CATEGORIES:4–6 Jahre,7–10 Jahre,Erwachsene
ATTACH;FMTTYPE=image/png:https://www.buecherei.prien.de/wp-content/uploads/2024/04/Tauschboerse.png
END:VEVENT
BEGIN:VEVENT
DTSTART;TZID=Europe/Berlin:20260707T150000
DTEND;TZID=Europe/Berlin:20260707T163000
DTSTAMP:20260423T132108
CREATED:20260407T200005Z
LAST-MODIFIED:20260413T135636Z
UID:9450-1783436400-1783441800@www.buecherei.prien.de
SUMMARY:Nanami - Schwimm dich mutig
DESCRIPTION:Beim Bilderbuchkino wird den Kindern ein Bilderbuch vorgelesen und gleichzeitig können sie die Bilder an der großen Leinwand ansehen. Es folgt eine kleine Bastelstunde passend zum Thema und jedes Kind darf etwas Selbstgebasteltes mit nach Hause nehmen. \nBitte geben Sie Ihrem Kind für die Veranstaltung ein Getränk mit! \nJedes Kind kann nur bei einer Veranstaltung pro Monat dabei sein! \nKann Ihr Kind doch nicht teilnehmen\, bitten wir Sie\, den Stornierungs-Link in der Bestätigungs-E-Mail anzuklicken\, damit ein anderes Kind nachrücken kann. \nZur Anmeldung / Warteliste
URL:https://www.buecherei.prien.de/veranstaltung/nanami-schwimm-dich-mutig/
LOCATION:Bücherei Prien\, Alte Rathausstraße 11\, Prien am Chiemsee\, 83209
CATEGORIES:4–6 Jahre
ATTACH;FMTTYPE=image/png:https://www.buecherei.prien.de/wp-content/uploads/2026/03/Nanami-scaled.png
END:VEVENT
BEGIN:VEVENT
DTSTART;TZID=Europe/Berlin:20260714T150000
DTEND;TZID=Europe/Berlin:20260714T163000
DTSTAMP:20260423T132108
CREATED:20260407T200039Z
LAST-MODIFIED:20260413T135628Z
UID:9453-1784041200-1784046600@www.buecherei.prien.de
SUMMARY:Was ist denn ein Kattonk?
DESCRIPTION:Beim Bilderbuchkino wird den Kindern ein Bilderbuch vorgelesen und gleichzeitig können sie die Bilder an der großen Leinwand ansehen. Es folgt eine kleine Bastelstunde passend zum Thema und jedes Kind darf etwas Selbstgebasteltes mit nach Hause nehmen. \nBitte geben Sie Ihrem Kind für die Veranstaltung ein Getränk mit! \nJedes Kind kann nur bei einer Veranstaltung pro Monat dabei sein! \nKann Ihr Kind doch nicht teilnehmen\, bitten wir Sie\, den Stornierungs-Link in der Bestätigungs-E-Mail anzuklicken\, damit ein anderes Kind nachrücken kann. \nZur Anmeldung / Warteliste
URL:https://www.buecherei.prien.de/veranstaltung/was-ist-denn-ein-kattonk/
LOCATION:Bücherei Prien\, Alte Rathausstraße 11\, Prien am Chiemsee\, 83209
CATEGORIES:4–6 Jahre
ATTACH;FMTTYPE=image/png:https://www.buecherei.prien.de/wp-content/uploads/2026/03/Kattonk-scaled.png
END:VEVENT
BEGIN:VEVENT
DTSTART;TZID=Europe/Berlin:20260728T150000
DTEND;TZID=Europe/Berlin:20260728T163000
DTSTAMP:20260423T132108
CREATED:20260407T200001Z
LAST-MODIFIED:20260413T135735Z
UID:9455-1785250800-1785256200@www.buecherei.prien.de
SUMMARY:Überraschungs-Sommernachmittag für die Alten Hasen
DESCRIPTION:Beim Bilderbuchkino wird den Kindern ein Bilderbuch vorgelesen und gleichzeitig können sie die Bilder an der großen Leinwand ansehen. Es folgt eine kleine Bastelstunde passend zum Thema und jedes Kind darf etwas Selbstgebasteltes mit nach Hause nehmen. \nBitte geben Sie Ihrem Kind für die Veranstaltung ein Getränk mit! \nJedes Kind kann nur bei einer Veranstaltung pro Monat dabei sein! \nKann Ihr Kind doch nicht teilnehmen\, bitten wir Sie\, den Stornierungs-Link in der Bestätigungs-E-Mail anzuklicken\, damit ein anderes Kind nachrücken kann. \nZur Anmeldung / Warteliste
URL:https://www.buecherei.prien.de/veranstaltung/ueberraschungs-sommernachmittag-fuer-die-alten-hasen/
LOCATION:Bücherei Prien\, Alte Rathausstraße 11\, Prien am Chiemsee\, 83209
CATEGORIES:7–10 Jahre
ATTACH;FMTTYPE=image/png:https://www.buecherei.prien.de/wp-content/uploads/2026/04/Ueberraschungssommernachmittag-scaled.png
END:VEVENT
BEGIN:VEVENT
DTSTART;TZID=Europe/Berlin:20270227T200000
DTEND;TZID=Europe/Berlin:20270227T220000
DTSTAMP:20260423T132108
CREATED:20260407T102636Z
LAST-MODIFIED:20260407T174951Z
UID:9460-1803758400-1803765600@www.buecherei.prien.de
SUMMARY:Axel Hacke liest und erzählt
DESCRIPTION:Hacke hat in vielen Jahrzehnten mehrere tausend Kolumnen geschrieben\, vor allem im Süddeutsche Zeitung Magazin\, dazu mehr als dreißig Bücher. Und was macht er nun? Er erzählt uns\, wie er das gemacht hat. Auch liest er uns vor. Weil er aber nicht alles lesen kann (jedenfalls nun wirklich nicht an einem Abend)\, liest er nur das Beste\, ja\, genau genommen\, das Allerbeste\, Allerlustigste\, Allernachdenklichste\, Allerklügste\, Allerheiterste\, so dass man sagen kann: Eigentlich hat er sich sein ganzes Leben als Autor nur auf diesen Abend vorbereitet\, ja\, genau: auf den besten Abend\, nein\, den allerbesten. \nAxel Hacke lebt als Schriftsteller in München. Berühmt ist seine Kolumne Das Beste aus aller Welt\, die er seit Jahrzehnten jeden Freitag im Magazin der Süddeutschen Zeitung veröffentlicht. Seine Bücher sind Bestseller. Seine Arbeit wurde u.a. mit dem Joseph-Roth-Preis\, zwei Egon-Erwin-Kisch-Preisen\, dem Theodor-Wolff-Preis und zuletzt dem Ben-Witter-Preis 2019 ausgezeichnet. \nTickets gibt es ab dem 03.08.2026 im Ticketbüro Prien\, Tel. 08051 965660 oder ticketservice@tourismus.prien.de und allen München Ticket Vorverkaufsstellen. \nPreise: \nKategorie 1: 29 € \nKategorie 2: 31 €
URL:https://www.buecherei.prien.de/veranstaltung/axel-hacke-liest-und-erzaehlt/
LOCATION:König Ludwig Saal\, Stauden 3\, Prien am Chiemsee\, 83209\, Germany
CATEGORIES:Erwachsene
ATTACH;FMTTYPE=image/jpeg:https://www.buecherei.prien.de/wp-content/uploads/2026/04/Axel-Hacke-scaled.jpg
END:VEVENT
END:VCALENDAR